BEGIN:VCALENDAR
VERSION:2.0
PRODID:-//eventon.com NONSGML v1.0//EN
BEGIN:VEVENT
UID:69e74f94d3291
DTSTAMP:20260421T122108
DTSTART:20261108T110000Z
DTEND:20261108T160000Z
LOCATION:
SUMMARY:Sonntagswache (Martinimarkt)
DESCRIPTION: Sonntagswache (Martinimarkt)
END:VEVENT
END:VCALENDAR