BEGIN:VCALENDAR
VERSION:2.0
PRODID:-//eventon.com NONSGML v1.0//EN
BEGIN:VEVENT
UID:69e763f4c76c0
DTSTAMP:20260421T134804
DTSTART:20260306T173000Z
DTEND:20260306T193000Z
LOCATION:
SUMMARY:Übung Gruppe 3
DESCRIPTION: Übung Gruppe 3
END:VEVENT
END:VCALENDAR