BEGIN:VCALENDAR
VERSION:2.0
PRODID:-//eventon.com NONSGML v1.0//EN
BEGIN:VEVENT
UID:69e78041d7f47
DTSTAMP:20260421T154849
DTSTART:20260324T170000Z
DTEND:20260324T190000Z
LOCATION:
SUMMARY:Jugendwart-Dienstversammlung (SEF)
DESCRIPTION: Jugendwart-Dienstversammlung (SEF)
END:VEVENT
END:VCALENDAR