BEGIN:VCALENDAR
VERSION:2.0
PRODID:-//eventon.com NONSGML v1.0//EN
BEGIN:VEVENT
UID:69e799dc49780
DTSTAMP:20260421T173804
DTSTART:20260402T173000Z
DTEND:20260402T193000Z
LOCATION:
SUMMARY:Übung Gruppe 1
DESCRIPTION: Übung Gruppe 1
END:VEVENT
END:VCALENDAR