BEGIN:VCALENDAR
VERSION:2.0
PRODID:-//eventon.com NONSGML v1.0//EN
BEGIN:VEVENT
UID:69e7b3e726b84
DTSTAMP:20260421T192911
DTSTART:20260408T173000Z
DTEND:20260408T193000Z
LOCATION:
SUMMARY:Übung Gruppe 2
DESCRIPTION: Übung Gruppe 2
END:VEVENT
END:VCALENDAR