BEGIN:VCALENDAR
VERSION:2.0
PRODID:-//eventon.com NONSGML v1.0//EN
BEGIN:VEVENT
UID:69e7cd55924a9
DTSTAMP:20260421T211741
DTSTART:20260307T063000Z
DTEND:20260307T133000Z
LOCATION:
SUMMARY:Holzaktion
DESCRIPTION: Holzaktion
END:VEVENT
END:VCALENDAR