BEGIN:VCALENDAR
VERSION:2.0
PRODID:-//eventon.com NONSGML v1.0//EN
BEGIN:VEVENT
UID:69e4d5396dd68
DTSTAMP:20260419T151433
DTSTART:20210803T173000Z
DTEND:20210803T193000Z
LOCATION:
SUMMARY:Online-Plauderei
DESCRIPTION: Online-Plauderei
END:VEVENT
END:VCALENDAR