BEGIN:VCALENDAR
VERSION:2.0
PRODID:-//eventon.com NONSGML v1.0//EN
BEGIN:VEVENT
UID:69e4d687b4018
DTSTAMP:20260419T152007
DTSTART:20210814T060000Z
DTEND:20210814T103000Z
LOCATION:
SUMMARY:Modulare Truppausbildung (Basismodul; PRAXIS)
DESCRIPTION: Modulare Truppausbildung (Basismodul; PRAXIS)
END:VEVENT
END:VCALENDAR