BEGIN:VCALENDAR
VERSION:2.0
PRODID:-//eventon.com NONSGML v1.0//EN
BEGIN:VEVENT
UID:69e4f02e90e3e
DTSTAMP:20260419T170934
DTSTART:20210817T173000Z
DTEND:20210817T193000Z
LOCATION:
SUMMARY:Online-Plauderei
DESCRIPTION: Online-Plauderei
END:VEVENT
END:VCALENDAR