BEGIN:VCALENDAR
VERSION:2.0
PRODID:-//eventon.com NONSGML v1.0//EN
BEGIN:VEVENT
UID:69e509585929a
DTSTAMP:20260419T185656
DTSTART:20210831T173000Z
DTEND:20210831T193000Z
LOCATION:
SUMMARY:Online-Plauderei
DESCRIPTION: Online-Plauderei
END:VEVENT
END:VCALENDAR