BEGIN:VCALENDAR
VERSION:2.0
PRODID:-//eventon.com NONSGML v1.0//EN
BEGIN:VEVENT
UID:69e5202bcd052
DTSTAMP:20260419T203419
DTSTART:20210828T060000Z
DTEND:20210828T103000Z
LOCATION:
SUMMARY:Modulare Truppausbildung (Basismodul; PRAXIS)
DESCRIPTION: Modulare Truppausbildung (Basismodul; PRAXIS)
END:VEVENT
END:VCALENDAR