BEGIN:VCALENDAR
VERSION:2.0
PRODID:-//eventon.com NONSGML v1.0//EN
BEGIN:VEVENT
UID:69e537a78fbce
DTSTAMP:20260419T221431
DTSTART:20210806T170000Z
DTEND:20210806T183000Z
LOCATION:
SUMMARY:Übung Gruppe 1
DESCRIPTION: Übung Gruppe 1
END:VEVENT
END:VCALENDAR