BEGIN:VCALENDAR
VERSION:2.0
PRODID:-//eventon.com NONSGML v1.0//EN
BEGIN:VEVENT
UID:69e5540e0ce5c
DTSTAMP:20260420T001542
DTSTART:20210807T083000Z
DTEND:20210807T110000Z
LOCATION:
SUMMARY:Übung Jugendgruppe
DESCRIPTION: Übung Jugendgruppe
END:VEVENT
END:VCALENDAR