BEGIN:VCALENDAR
VERSION:2.0
PRODID:-//eventon.com NONSGML v1.0//EN
BEGIN:VEVENT
UID:69e56bf020d71
DTSTAMP:20260420T015736
DTSTART:20210810T170000Z
DTEND:20210810T190000Z
LOCATION:
SUMMARY:Atemschutz-Übung (Streckendurchgang)
DESCRIPTION: Atemschutz-Übung (Streckendurchgang)
END:VEVENT
END:VCALENDAR