BEGIN:VCALENDAR
VERSION:2.0
PRODID:-//eventon.com NONSGML v1.0//EN
BEGIN:VEVENT
UID:69e586345ab1a
DTSTAMP:20260420T034940
DTSTART:20210727T170000Z
DTEND:20210727T183000Z
LOCATION:
SUMMARY:Übung Gruppe 2
DESCRIPTION: Übung Gruppe 2
END:VEVENT
END:VCALENDAR