BEGIN:VCALENDAR
VERSION:2.0
PRODID:-//eventon.com NONSGML v1.0//EN
BEGIN:VEVENT
UID:69e5a37deb545
DTSTAMP:20260420T055437
DTSTART:20210728T170000Z
DTEND:20210728T190000Z
LOCATION:
SUMMARY:Drehleiter-Ausbildung (Gruppe 1)
DESCRIPTION: Drehleiter-Ausbildung (Gruppe 1)
END:VEVENT
END:VCALENDAR