BEGIN:VCALENDAR
VERSION:2.0
PRODID:-//eventon.com NONSGML v1.0//EN
BEGIN:VEVENT
UID:69e602d44a0a9
DTSTAMP:20260420T124124
DTSTART:20211027T143000Z
DTEND:20211027T160000Z
LOCATION:
SUMMARY:Gruppenstunde Kinderfeuerwehr
DESCRIPTION: Gruppenstunde Kinderfeuerwehr
END:VEVENT
END:VCALENDAR