BEGIN:VCALENDAR
VERSION:2.0
PRODID:-//eventon.com NONSGML v1.0//EN
BEGIN:VEVENT
UID:69e61ae8c781f
DTSTAMP:20260420T142408
DTSTART:20211110T143000Z
DTEND:20211110T160000Z
LOCATION:
SUMMARY:Gruppenstunde Kinderfeuerwehr
DESCRIPTION: Gruppenstunde Kinderfeuerwehr
END:VEVENT
END:VCALENDAR