BEGIN:VCALENDAR
VERSION:2.0
PRODID:-//eventon.com NONSGML v1.0//EN
BEGIN:VEVENT
UID:69e64c62ea0f8
DTSTAMP:20260420T175514
DTSTART:20211204T143000Z
DTEND:20211204T160000Z
LOCATION:
SUMMARY:ABGESAGT: Gruppenstunde Kinderfeuerwehr
DESCRIPTION: ABGESAGT: Gruppenstunde Kinderfeuerwehr
END:VEVENT
END:VCALENDAR