BEGIN:VCALENDAR
VERSION:2.0
PRODID:-//eventon.com NONSGML v1.0//EN
BEGIN:VEVENT
UID:69e6660656fe0
DTSTAMP:20260420T194438
DTSTART:20210821T083000Z
DTEND:20210821T110000Z
LOCATION:
SUMMARY:Übung Jugendgruppe
DESCRIPTION: Übung Jugendgruppe
END:VEVENT
END:VCALENDAR