BEGIN:VCALENDAR
VERSION:2.0
PRODID:-//eventon.com NONSGML v1.0//EN
BEGIN:VEVENT
UID:69e67dac2ac08
DTSTAMP:20260420T212532
DTSTART:20210802T170000Z
DTEND:20210802T191500Z
LOCATION:
SUMMARY:Modulare Truppausbildung (Basismodul; Online) - Nachholtermin FF U-Nesselbach
DESCRIPTION: Modulare Truppausbildung (Basismodul; Online) - Nachholtermin FF U-Nesselbach
END:VEVENT
END:VCALENDAR