BEGIN:VCALENDAR
VERSION:2.0
PRODID:-//eventon.com NONSGML v1.0//EN
BEGIN:VEVENT
UID:69e6b19ab4a18
DTSTAMP:20260421T010706
DTSTART:20210910T170000Z
DTEND:20210910T191500Z
LOCATION:
SUMMARY:Modulare Truppausbildung (Basismodul; Sprechfunk-Lehrgang)
DESCRIPTION: Modulare Truppausbildung (Basismodul; Sprechfunk-Lehrgang)
END:VEVENT
END:VCALENDAR