BEGIN:VCALENDAR
VERSION:2.0
PRODID:-//eventon.com NONSGML v1.0//EN
BEGIN:VEVENT
UID:69e6b210c7d34
DTSTAMP:20260421T010904
DTSTART:20210911T063000Z
DTEND:20210911T130000Z
LOCATION:
SUMMARY:Modulare Truppausbildung (Basismodul; Sprechfunk-Lehrgang)
DESCRIPTION: Modulare Truppausbildung (Basismodul; Sprechfunk-Lehrgang)
END:VEVENT
END:VCALENDAR