BEGIN:VCALENDAR
VERSION:2.0
PRODID:-//eventon.com NONSGML v1.0//EN
BEGIN:VEVENT
UID:69e7069a9f251
DTSTAMP:20260421T070946
DTSTART:20210824T170000Z
DTEND:20210824T183000Z
LOCATION:
SUMMARY:Übung Gruppe 2
DESCRIPTION: Übung Gruppe 2
END:VEVENT
END:VCALENDAR