BEGIN:VCALENDAR
VERSION:2.0
PRODID:-//eventon.com NONSGML v1.0//EN
BEGIN:VEVENT
UID:69e6edb450014
DTSTAMP:20260421T052332
DTSTART:20210921T170000Z
DTEND:20210921T183000Z
LOCATION:
SUMMARY:Übung Gruppe 2
DESCRIPTION: Übung Gruppe 2
END:VEVENT
END:VCALENDAR