BEGIN:VCALENDAR
VERSION:2.0
PRODID:-//eventon.com NONSGML v1.0//EN
BEGIN:VEVENT
UID:69e6ed4a3d18a
DTSTAMP:20260421T052146
DTSTART:20210812T170000Z
DTEND:20210812T190000Z
LOCATION:
SUMMARY:Drehleiter-Ausbildung
DESCRIPTION: Drehleiter-Ausbildung
END:VEVENT
END:VCALENDAR