BEGIN:VCALENDAR
VERSION:2.0
PRODID:-//eventon.com NONSGML v1.0//EN
BEGIN:VEVENT
UID:69e6b3c0128ee
DTSTAMP:20260421T011616
DTSTART:20210821T080000Z
DTEND:20210821T140000Z
LOCATION:
SUMMARY:Ausflug Kinderfeuerwehr
DESCRIPTION: Ausflug Kinderfeuerwehr
END:VEVENT
END:VCALENDAR