BEGIN:VCALENDAR
VERSION:2.0
PRODID:-//eventon.com NONSGML v1.0//EN
BEGIN:VEVENT
UID:69e696ccb5547
DTSTAMP:20260420T231244
DTSTART:20210903T173000Z
DTEND:20210903T193000Z
LOCATION:
SUMMARY:Gesamtübung (inkl. Jugendgruppe)
DESCRIPTION: Gesamtübung (inkl. Jugendgruppe)
END:VEVENT
END:VCALENDAR