BEGIN:VCALENDAR
VERSION:2.0
PRODID:-//eventon.com NONSGML v1.0//EN
BEGIN:VEVENT
UID:69e67f6e2ab1d
DTSTAMP:20260420T213302
DTSTART:20210917T170000Z
DTEND:20210917T183000Z
LOCATION:
SUMMARY:Übung Gruppe 4
DESCRIPTION: Übung Gruppe 4
END:VEVENT
END:VCALENDAR