BEGIN:VCALENDAR
VERSION:2.0
PRODID:-//eventon.com NONSGML v1.0//EN
BEGIN:VEVENT
UID:69e666efc52d6
DTSTAMP:20260420T194831
DTSTART:20210818T170000Z
DTEND:20210818T183000Z
LOCATION:
SUMMARY:Übung Gruppe 3
DESCRIPTION: Übung Gruppe 3
END:VEVENT
END:VCALENDAR