BEGIN:VCALENDAR
VERSION:2.0
PRODID:-//eventon.com NONSGML v1.0//EN
BEGIN:VEVENT
UID:69e64b8dd518c
DTSTAMP:20260420T175141
DTSTART:20210830T173000Z
DTEND:20210830T190000Z
LOCATION:
SUMMARY:Arbeitskreis MZF
DESCRIPTION: Arbeitskreis MZF
END:VEVENT
END:VCALENDAR