BEGIN:VCALENDAR
VERSION:2.0
PRODID:-//eventon.com NONSGML v1.0//EN
BEGIN:VEVENT
UID:69e634b05f5ca
DTSTAMP:20260420T161408
DTSTART:20210902T160000Z
DTEND:20210902T183000Z
LOCATION:
SUMMARY:Atemschutz-Übung (Streckendurchgang)
DESCRIPTION: Atemschutz-Übung (Streckendurchgang)
END:VEVENT
END:VCALENDAR