BEGIN:VCALENDAR
VERSION:2.0
PRODID:-//eventon.com NONSGML v1.0//EN
BEGIN:VEVENT
UID:69e61bad6a7e2
DTSTAMP:20260420T142725
DTSTART:20210910T170000Z
DTEND:20210910T193000Z
LOCATION:
SUMMARY:Jahreshauptversammlung
DESCRIPTION: Jahreshauptversammlung
END:VEVENT
END:VCALENDAR