BEGIN:VCALENDAR
VERSION:2.0
PRODID:-//eventon.com NONSGML v1.0//EN
BEGIN:VEVENT
UID:69e602df379d9
DTSTAMP:20260420T124135
DTSTART:20210911T050000Z
DTEND:20210911T200000Z
LOCATION:
SUMMARY:Berufsfeuerwehrtag Jugendgruppe
DESCRIPTION: Berufsfeuerwehrtag Jugendgruppe
END:VEVENT
END:VCALENDAR