BEGIN:VCALENDAR
VERSION:2.0
PRODID:-//eventon.com NONSGML v1.0//EN
BEGIN:VEVENT
UID:69e5ee9e861b2
DTSTAMP:20260420T111510
DTSTART:20210914T173000Z
DTEND:20210914T193000Z
LOCATION:
SUMMARY:Online-Plauderei
DESCRIPTION: Online-Plauderei
END:VEVENT
END:VCALENDAR