BEGIN:VCALENDAR
VERSION:2.0
PRODID:-//eventon.com NONSGML v1.0//EN
BEGIN:VEVENT
UID:69e5d6c79393e
DTSTAMP:20260420T093327
DTSTART:20210918T063000Z
DTEND:20210918T110000Z
LOCATION:
SUMMARY:ABGESAGT: Wissenstest Jugendgruppe
DESCRIPTION: ABGESAGT: Wissenstest Jugendgruppe
END:VEVENT
END:VCALENDAR