BEGIN:VCALENDAR
VERSION:2.0
PRODID:-//eventon.com NONSGML v1.0//EN
BEGIN:VEVENT
UID:69e5bd8ed99f4
DTSTAMP:20260420T074550
DTSTART:20210925T083000Z
DTEND:20210925T110000Z
LOCATION:
SUMMARY:Übung Jugendgruppe
DESCRIPTION: Übung Jugendgruppe
END:VEVENT
END:VCALENDAR