BEGIN:VCALENDAR
VERSION:2.0
PRODID:-//eventon.com NONSGML v1.0//EN
BEGIN:VEVENT
UID:69e5a46782ccc
DTSTAMP:20260420T055831
DTSTART:20210928T173000Z
DTEND:20210928T193000Z
LOCATION:
SUMMARY:Online-Plauderei
DESCRIPTION: Online-Plauderei
END:VEVENT
END:VCALENDAR