BEGIN:VCALENDAR
VERSION:2.0
PRODID:-//eventon.com NONSGML v1.0//EN
BEGIN:VEVENT
UID:69e59d1bb7248
DTSTAMP:20260420T052723
DTSTART:20210829T063000Z
DTEND:20210829T113000Z
LOCATION:
SUMMARY:Aischgrund Triathlon
DESCRIPTION: Aischgrund Triathlon
END:VEVENT
END:VCALENDAR