BEGIN:VCALENDAR
VERSION:2.0
PRODID:-//eventon.com NONSGML v1.0//EN
BEGIN:VEVENT
UID:69e5686ea2ccf
DTSTAMP:20260420T014238
DTSTART:20210916T063000Z
DTEND:20210916T150000Z
LOCATION:
SUMMARY:Standortschulung Strahlenschutz
DESCRIPTION: Standortschulung Strahlenschutz
END:VEVENT
END:VCALENDAR