BEGIN:VCALENDAR
VERSION:2.0
PRODID:-//eventon.com NONSGML v1.0//EN
BEGIN:VEVENT
UID:69e57088cf32f
DTSTAMP:20260420T021712
DTSTART:20210924T170000Z
DTEND:20210924T183000Z
LOCATION:
SUMMARY:Übung Gruppe 1
DESCRIPTION: Übung Gruppe 1
END:VEVENT
END:VCALENDAR