BEGIN:VCALENDAR
VERSION:2.0
PRODID:-//eventon.com NONSGML v1.0//EN
BEGIN:VEVENT
UID:69e538cb70e87
DTSTAMP:20260419T221923
DTSTART:20210926T110000Z
DTEND:20210926T160000Z
LOCATION:
SUMMARY:Sonntagswache (Michaelimarkt)
DESCRIPTION: Sonntagswache (Michaelimarkt)
END:VEVENT
END:VCALENDAR