BEGIN:VCALENDAR
VERSION:2.0
PRODID:-//eventon.com NONSGML v1.0//EN
BEGIN:VEVENT
UID:69e520ece2c9d
DTSTAMP:20260419T203732
DTSTART:20210927T170000Z
DTEND:20210927T183000Z
LOCATION:
SUMMARY:Übung Gruppe 3
DESCRIPTION: Übung Gruppe 3
END:VEVENT
END:VCALENDAR