BEGIN:VCALENDAR
VERSION:2.0
PRODID:-//eventon.com NONSGML v1.0//EN
BEGIN:VEVENT
UID:69e5087d15925
DTSTAMP:20260419T185317
DTSTART:20210912T100000Z
DTEND:20210912T121500Z
LOCATION:
SUMMARY:Modulare Truppausbildung (Basismodul; Prüfungsvorbereitung)
DESCRIPTION: Modulare Truppausbildung (Basismodul; Prüfungsvorbereitung)
END:VEVENT
END:VCALENDAR