BEGIN:VCALENDAR
VERSION:2.0
PRODID:-//eventon.com NONSGML v1.0//EN
BEGIN:VEVENT
UID:69e5097761255
DTSTAMP:20260419T185727
DTSTART:20211001T170000Z
DTEND:20211001T183000Z
LOCATION:
SUMMARY:Übung Gruppe 4
DESCRIPTION: Übung Gruppe 4
END:VEVENT
END:VCALENDAR